BEGIN:VCALENDAR
VERSION:2.0
PRODID:-//Constellation Schools - ECPv4.6.16//NONSGML v1.0//EN
CALSCALE:GREGORIAN
METHOD:PUBLISH
X-WR-CALNAME:Constellation Schools
X-ORIGINAL-URL:https://constellationschools.com
X-WR-CALDESC:Events for Constellation Schools
BEGIN:VEVENT
DTSTART;TZID=America/New_York:20260319T180000
DTEND;TZID=America/New_York:20260319T180000
DTSTAMP:20260422T223609
CREATED:20250730T194213Z
LAST-MODIFIED:20250730T194213Z
UID:45285-1773943200-1773943200@constellationschools.com
SUMMARY:Board Meeting
DESCRIPTION:
URL:https://constellationschools.com/event/board-meeting-18/
LOCATION:5983 W. 54th Street\, Parma\, OH\, 44129\, United States
CATEGORIES:Calendar Only,School Board
END:VEVENT
END:VCALENDAR