BEGIN:VCALENDAR
VERSION:2.0
PRODID:-//Constellation Schools - ECPv4.6.16//NONSGML v1.0//EN
CALSCALE:GREGORIAN
METHOD:PUBLISH
X-WR-CALNAME:Constellation Schools
X-ORIGINAL-URL:https://constellationschools.com
X-WR-CALDESC:Events for Constellation Schools
BEGIN:VEVENT
DTSTART;TZID=America/New_York:20260521T180000
DTEND;TZID=America/New_York:20260521T180000
DTSTAMP:20260422T221239
CREATED:20250730T194315Z
LAST-MODIFIED:20250730T194315Z
UID:45289-1779386400-1779386400@constellationschools.com
SUMMARY:Annual Board Meeting
DESCRIPTION:
URL:https://constellationschools.com/event/annual-board-meeting-3/
LOCATION:5983 W. 54th Street\, Parma\, OH\, 44129\, United States
CATEGORIES:Calendar Only,School Board
END:VEVENT
END:VCALENDAR