BEGIN:VCALENDAR
VERSION:2.0
PRODID:-//Constellation Schools - ECPv4.6.16//NONSGML v1.0//EN
CALSCALE:GREGORIAN
METHOD:PUBLISH
X-WR-CALNAME:Constellation Schools
X-ORIGINAL-URL:https://constellationschools.com
X-WR-CALDESC:Events for Constellation Schools
BEGIN:VEVENT
DTSTART;TZID=America/New_York:20231118T100000
DTEND;TZID=America/New_York:20231118T120000
DTSTAMP:20260424T123841
CREATED:20231101T191217Z
LAST-MODIFIED:20231101T191217Z
UID:36355-1700301600-1700308800@constellationschools.com
SUMMARY:3rd Annual ACCEL Schools Turkey Giveaway
DESCRIPTION:ACCEL Schools is giving away turkeys to Cleveland families this holiday season! Any family with school-age children is invited to join us at this giveaway hosted on the campus of Cleveland College Preparatory School (one of 35 ACCEL schools in the community). Free\, frozen turkeys will be distributed on a first come\, first serve basis. To participate\, join the drive-thru or walk-up line to receive your turkey! Enjoy live DJ music from Z 107.9 and 93.1 FM. Happy Holidays! Let us know you’ll be there!  \nAccelSchools.com/Giveaway \n
URL:https://constellationschools.com/event/3rd-annual-accel-schools-turkey-giveaway-2/
LOCATION:4906 Fleet Ave\, Cleveland\, OH\, 44105\, United States
CATEGORIES:Calendar Only,Prospective Families, Events, Home
END:VEVENT
END:VCALENDAR