BEGIN:VCALENDAR
VERSION:2.0
PRODID:-//Constellation Schools - ECPv4.6.16//NONSGML v1.0//EN
CALSCALE:GREGORIAN
METHOD:PUBLISH
X-WR-CALNAME:Constellation Schools
X-ORIGINAL-URL:https://constellationschools.com
X-WR-CALDESC:Events for Constellation Schools
BEGIN:VEVENT
DTSTART;TZID=America/New_York:20240516T180000
DTEND;TZID=America/New_York:20240516T180000
DTSTAMP:20260424T043415
CREATED:20230530T134733Z
LAST-MODIFIED:20230530T134733Z
UID:32305-1715882400-1715882400@constellationschools.com
SUMMARY:Annual Board Meeting
DESCRIPTION:Constellation Schools: Parma Community\n5983 W. 54th Street\nParma\, Ohio 44129 \n
URL:https://constellationschools.com/event/annual-board-meeting-2/
CATEGORIES:Calendar Only,School Board
END:VEVENT
END:VCALENDAR