BEGIN:VCALENDAR
VERSION:2.0
PRODID:-//Constellation Schools - ECPv4.6.16//NONSGML v1.0//EN
CALSCALE:GREGORIAN
METHOD:PUBLISH
X-WR-CALNAME:Constellation Schools
X-ORIGINAL-URL:https://constellationschools.com
X-WR-CALDESC:Events for Constellation Schools
BEGIN:VEVENT
DTSTART;TZID=America/New_York:20230818T130000
DTEND;TZID=America/New_York:20230818T160000
DTSTAMP:20260424T172752
CREATED:20230725T131333Z
LAST-MODIFIED:20230725T131738Z
UID:33715-1692363600-1692374400@constellationschools.com
SUMMARY:Stockyard Community - Back to School Bash
DESCRIPTION:Join us for a fun back to school event with FREE snow cones\, games & inflatable activities! Our principal will share academic goals\, expectations & procedures for the 2023-24 school year. Families will have the opportunity to meet their new teacher and visit their classroom! K-4 Family Schedule: 1-1:40 Presentation in Cafeteria & 1:40-2:40pm Outdoor Activities. Grade 5-8 Family Schedule: 2-2:40pm Presentation & Cafeteria & 2:40-3:40pm Outdoor Activities.  \nRSVP Today! constellationschools.com/stockyard-events  \n
URL:https://constellationschools.com/event/back-to-school-bash/
LOCATION:3200 W 65th Street\, Cleveland\, OH\, 44102\, United States
CATEGORIES:Calendar Only,Prospective Families, Events, Home
END:VEVENT
END:VCALENDAR