BEGIN:VCALENDAR
VERSION:2.0
PRODID:-//Constellation Schools - ECPv4.6.16//NONSGML v1.0//EN
CALSCALE:GREGORIAN
METHOD:PUBLISH
X-WR-CALNAME:Constellation Schools
X-ORIGINAL-URL:https://constellationschools.com
X-WR-CALDESC:Events for Constellation Schools
BEGIN:VEVENT
DTSTART;VALUE=DATE:20260313
DTEND;VALUE=DATE:20260314
DTSTAMP:20260422T185714
CREATED:20250909T161242Z
LAST-MODIFIED:20250909T161242Z
UID:45742-1773360000-1773446399@constellationschools.com
SUMMARY:Building Workday A.M.– Professional Development P.M. (No School for Students)
DESCRIPTION:
URL:https://constellationschools.com/event/building-workday-m-professional-development-p-m-no-school-students-2/
CATEGORIES:Calendar Only
END:VEVENT
END:VCALENDAR