BEGIN:VCALENDAR
VERSION:2.0
PRODID:-//Constellation Schools - ECPv4.6.16//NONSGML v1.0//EN
CALSCALE:GREGORIAN
METHOD:PUBLISH
X-WR-CALNAME:Constellation Schools
X-ORIGINAL-URL:https://constellationschools.com
X-WR-CALDESC:Events for Constellation Schools
BEGIN:VEVENT
DTSTART;VALUE=DATE:20241021
DTEND;VALUE=DATE:20241022
DTSTAMP:20260423T193033
CREATED:20240404T165559Z
LAST-MODIFIED:20240404T165559Z
UID:39916-1729468800-1729555199@constellationschools.com
SUMMARY:Building Workday – Paraprofessionals Do Not Report (No School for Students)
DESCRIPTION:
URL:https://constellationschools.com/event/building-workday-paraprofessionals-do-not-report-no-school-for-students-4/
LOCATION:5730 Broadview Road\, Parma\, OH\, 44134
CATEGORIES:Calendar Only
END:VEVENT
END:VCALENDAR