BEGIN:VCALENDAR
VERSION:2.0
PRODID:-//Constellation Schools - ECPv4.6.16//NONSGML v1.0//EN
CALSCALE:GREGORIAN
METHOD:PUBLISH
X-WR-CALNAME:Constellation Schools
X-ORIGINAL-URL:https://constellationschools.com
X-WR-CALDESC:Events for Constellation Schools
BEGIN:VEVENT
DTSTART;VALUE=DATE:20250117
DTEND;VALUE=DATE:20250118
DTSTAMP:20260423T153444
CREATED:20240404T171633Z
LAST-MODIFIED:20240404T171633Z
UID:39970-1737072000-1737158399@constellationschools.com
SUMMARY:Building Workday – Paraprofessionals Do Not Report (No School for Students)
DESCRIPTION:
URL:https://constellationschools.com/event/building-workday-paraprofessionals-do-not-report-no-school-for-students-5/
LOCATION:5730 Broadview Road\, Parma\, OH\, 44134
CATEGORIES:Calendar Only
END:VEVENT
END:VCALENDAR