BEGIN:VCALENDAR
VERSION:2.0
PRODID:-//Constellation Schools - ECPv4.6.16//NONSGML v1.0//EN
CALSCALE:GREGORIAN
METHOD:PUBLISH
X-WR-CALNAME:Constellation Schools
X-ORIGINAL-URL:https://constellationschools.com
X-WR-CALDESC:Events for Constellation Schools
BEGIN:VEVENT
DTSTART;TZID=America/New_York:20230725T123000
DTEND;TZID=America/New_York:20230725T143000
DTSTAMP:20260424T191437
CREATED:20230609T184153Z
LAST-MODIFIED:20230609T184153Z
UID:32494-1690288200-1690295400@constellationschools.com
SUMMARY:Eastside Arts Academy - "Christmas In July" Movie Matinee
DESCRIPTION:Come celebrate Christmas in July with us! Watch a festive movie while decorating Christmas Cookies. Families interested in enrollment will have the opportunity to tour our campus and learn more about the upcoming school year.  \nRSVP Today! constellationschools.com/eastside-arts-events  \n
URL:https://constellationschools.com/event/eastside-arts-academy-christmas-in-july-movie-matinee-2/
LOCATION:6700 Lansing Ave\, Cleveland\, OH\, 44105
CATEGORIES:Calendar Only,Prospective Families, Events, Home
END:VEVENT
END:VCALENDAR