BEGIN:VCALENDAR
VERSION:2.0
PRODID:-//Constellation Schools - ECPv4.6.16//NONSGML v1.0//EN
CALSCALE:GREGORIAN
METHOD:PUBLISH
X-WR-CALNAME:Constellation Schools
X-ORIGINAL-URL:https://constellationschools.com
X-WR-CALDESC:Events for Constellation Schools
BEGIN:VEVENT
DTSTART;TZID=America/New_York:20230627T123000
DTEND;TZID=America/New_York:20230627T143000
DTSTAMP:20260424T191316
CREATED:20230606T135720Z
LAST-MODIFIED:20230606T135720Z
UID:32413-1687869000-1687876200@constellationschools.com
SUMMARY:Eastside Arts Academy - Kool Down with Kona Ice!
DESCRIPTION:Join us for a tropical escape\, FREE Kona Ice & and an opportunity to learn about our school! Paint our playground area! Meet our staff\, tour our campus & receive registration support.  \nRSVP Today! constellationschools.com/eastside-events  \n
URL:https://constellationschools.com/event/eastside-arts-academy-kool-down-with-kona-ice/
LOCATION:6700 Lansing Ave\, Cleveland\, OH\, 44105
CATEGORIES:Calendar Only,Prospective Families, Events, Home
END:VEVENT
END:VCALENDAR