BEGIN:VCALENDAR
VERSION:2.0
PRODID:-//Constellation Schools - ECPv4.6.16//NONSGML v1.0//EN
CALSCALE:GREGORIAN
METHOD:PUBLISH
X-WR-CALNAME:Constellation Schools
X-ORIGINAL-URL:https://constellationschools.com
X-WR-CALDESC:Events for Constellation Schools
BEGIN:VEVENT
DTSTART;TZID=America/New_York:20240728T140000
DTEND;TZID=America/New_York:20240728T160000
DTSTAMP:20260423T223133
CREATED:20240702T174556Z
LAST-MODIFIED:20240702T174556Z
UID:41926-1722175200-1722182400@constellationschools.com
SUMMARY:Elyria Community - School Carnival
DESCRIPTION:Step right up to FREE family fun! Join us for a day of games\, Kona ice\, inflatables\, face painting\, and the chance to learn about our school. Meet our staff\, tour our campus & receive registration support.  \nRSVP Today! constellationschools.com/elyria-events \n
URL:https://constellationschools.com/event/elyria-community-school-carnival/
LOCATION:300 N Abbe Rd\, Elyria\, OH\, 44035
CATEGORIES:Calendar Only,Prospective Families, Events, Home
END:VEVENT
END:VCALENDAR