BEGIN:VCALENDAR
VERSION:2.0
PRODID:-//Constellation Schools - ECPv4.6.16//NONSGML v1.0//EN
CALSCALE:GREGORIAN
METHOD:PUBLISH
X-WR-CALNAME:Constellation Schools
X-ORIGINAL-URL:https://constellationschools.com
X-WR-CALDESC:Events for Constellation Schools
BEGIN:VEVENT
DTSTART;TZID=America/New_York:20230208T160000
DTEND;TZID=America/New_York:20230208T200000
DTSTAMP:20260425T022237
CREATED:20230112T151421Z
LAST-MODIFIED:20230112T151421Z
UID:23321-1675872000-1675886400@constellationschools.com
SUMMARY:Evening Parent-Teacher Conferences
DESCRIPTION:Evening Parent-Teacher Conferences \n
URL:https://constellationschools.com/event/evening-parent-teacher-conferences/
LOCATION:5730 Broadview Road\, Parma\, OH\, 44134
CATEGORIES:Calendar Only
END:VEVENT
END:VCALENDAR