BEGIN:VCALENDAR
VERSION:2.0
PRODID:-//Constellation Schools - ECPv4.6.16//NONSGML v1.0//EN
CALSCALE:GREGORIAN
METHOD:PUBLISH
X-WR-CALNAME:Constellation Schools
X-ORIGINAL-URL:https://constellationschools.com
X-WR-CALDESC:Events for Constellation Schools
BEGIN:VEVENT
DTSTART;TZID=America/New_York:20251025T091500
DTEND;TZID=America/New_York:20251025T091500
DTSTAMP:20260423T020224
CREATED:20250929T183847Z
LAST-MODIFIED:20250929T183940Z
UID:46010-1761383700-1761383700@constellationschools.com
SUMMARY:Flag Football Game
DESCRIPTION:Elyria vs. Stockyard \n
URL:https://constellationschools.com/event/flag-football-game-27/
LOCATION:5983 W 54th Street\, Parma\, OH\, 44129
CATEGORIES:Calendar Only
END:VEVENT
END:VCALENDAR