BEGIN:VCALENDAR
VERSION:2.0
PRODID:-//Constellation Schools - ECPv4.6.16//NONSGML v1.0//EN
CALSCALE:GREGORIAN
METHOD:PUBLISH
X-WR-CALNAME:Constellation Schools
X-ORIGINAL-URL:https://constellationschools.com
X-WR-CALDESC:Events for Constellation Schools
BEGIN:VEVENT
DTSTART;TZID=America/New_York:20251101T091500
DTEND;TZID=America/New_York:20251101T091500
DTSTAMP:20260423T004912
CREATED:20250929T184711Z
LAST-MODIFIED:20250929T184835Z
UID:46020-1761988500-1761988500@constellationschools.com
SUMMARY:Flag Football Game
DESCRIPTION:Westside Arts vs. Elyria \n
URL:https://constellationschools.com/event/flag-football-game-32/
LOCATION:5983 W 54th Street\, Parma\, OH\, 44129
CATEGORIES:Calendar Only
END:VEVENT
END:VCALENDAR