BEGIN:VCALENDAR
VERSION:2.0
PRODID:-//Constellation Schools - ECPv4.6.16//NONSGML v1.0//EN
CALSCALE:GREGORIAN
METHOD:PUBLISH
X-WR-CALNAME:Constellation Schools
X-ORIGINAL-URL:https://constellationschools.com
X-WR-CALDESC:Events for Constellation Schools
BEGIN:VEVENT
DTSTART;TZID=America/New_York:20251108T081500
DTEND;TZID=America/New_York:20251108T081500
DTSTAMP:20260423T004624
CREATED:20250929T185410Z
LAST-MODIFIED:20250929T185410Z
UID:46030-1762589700-1762589700@constellationschools.com
SUMMARY:Flag Football Game
DESCRIPTION:Parma vs. Stockyard \n
URL:https://constellationschools.com/event/flag-football-game-36/
LOCATION:5983 W 54th Street\, Parma\, OH\, 44129
CATEGORIES:Calendar Only
END:VEVENT
END:VCALENDAR