BEGIN:VCALENDAR
VERSION:2.0
PRODID:-//Constellation Schools - ECPv4.6.16//NONSGML v1.0//EN
CALSCALE:GREGORIAN
METHOD:PUBLISH
X-WR-CALNAME:Constellation Schools
X-ORIGINAL-URL:https://constellationschools.com
X-WR-CALDESC:Events for Constellation Schools
BEGIN:VEVENT
DTSTART;TZID=America/New_York:20251004T170000
DTEND;TZID=America/New_York:20251004T180000
DTSTAMP:20260423T033241
CREATED:20250918T192426Z
LAST-MODIFIED:20250918T192440Z
UID:45851-1759597200-1759600800@constellationschools.com
SUMMARY:Girls Volleyball Game
DESCRIPTION:Parma High School vs Brook Park Recreation(Dave)1 Team \n  \n  \n  \nSee Full Schedule » \n
URL:https://constellationschools.com/event/girls-volleyball-game-2/
LOCATION:5983 W 54th Street\, Parma\, OH\, 44129
CATEGORIES:Calendar Only,Prospective Families, Events, Home
END:VEVENT
END:VCALENDAR