BEGIN:VCALENDAR
VERSION:2.0
PRODID:-//Constellation Schools - ECPv4.6.16//NONSGML v1.0//EN
CALSCALE:GREGORIAN
METHOD:PUBLISH
X-WR-CALNAME:Constellation Schools
X-ORIGINAL-URL:https://constellationschools.com
X-WR-CALDESC:Events for Constellation Schools
BEGIN:VEVENT
DTSTART;VALUE=DATE:20250214
DTEND;VALUE=DATE:20250215
DTSTAMP:20260423T142750
CREATED:20240404T172634Z
LAST-MODIFIED:20240404T172634Z
UID:39985-1739491200-1739577599@constellationschools.com
SUMMARY:In-Service\, Professional Development (No School for Students)
DESCRIPTION:
URL:https://constellationschools.com/event/in-service-professional-development-no-school-for-students-2/
LOCATION:5730 Broadview Road\, Parma\, OH\, 44134
CATEGORIES:Calendar Only
END:VEVENT
END:VCALENDAR