BEGIN:VCALENDAR
VERSION:2.0
PRODID:-//Constellation Schools - ECPv4.6.16//NONSGML v1.0//EN
CALSCALE:GREGORIAN
METHOD:PUBLISH
X-WR-CALNAME:Constellation Schools
X-ORIGINAL-URL:https://constellationschools.com
X-WR-CALDESC:Events for Constellation Schools
BEGIN:VEVENT
DTSTART;VALUE=DATE:20241125
DTEND;VALUE=DATE:20241126
DTSTAMP:20260423T181345
CREATED:20240404T170432Z
LAST-MODIFIED:20240404T170432Z
UID:39940-1732492800-1732579199@constellationschools.com
SUMMARY:In-Services\, Professional Development – (No School for Students)
DESCRIPTION:
URL:https://constellationschools.com/event/in-services-professional-development-no-school-for-students/
LOCATION:5730 Broadview Road\, Parma\, OH\, 44134
CATEGORIES:Calendar Only
END:VEVENT
END:VCALENDAR