BEGIN:VCALENDAR
VERSION:2.0
PRODID:-//Constellation Schools - ECPv4.6.16//NONSGML v1.0//EN
CALSCALE:GREGORIAN
METHOD:PUBLISH
X-WR-CALNAME:Constellation Schools
X-ORIGINAL-URL:https://constellationschools.com
X-WR-CALDESC:Events for Constellation Schools
BEGIN:VEVENT
DTSTART;VALUE=DATE:20240619
DTEND;VALUE=DATE:20240620
DTSTAMP:20260424T012320
CREATED:20230328T165741Z
LAST-MODIFIED:20230328T165741Z
UID:30392-1718755200-1718841599@constellationschools.com
SUMMARY:Juneteenth Day – Year-Round Staff Holiday
DESCRIPTION:
URL:https://constellationschools.com/event/juneteenth-day-year-round-staff-holiday/
LOCATION:5730 Broadview Road\, Parma\, OH\, 44134
CATEGORIES:Calendar Only
END:VEVENT
END:VCALENDAR