BEGIN:VCALENDAR
VERSION:2.0
PRODID:-//Constellation Schools - ECPv4.6.16//NONSGML v1.0//EN
CALSCALE:GREGORIAN
METHOD:PUBLISH
X-WR-CALNAME:Constellation Schools
X-ORIGINAL-URL:https://constellationschools.com
X-WR-CALDESC:Events for Constellation Schools
BEGIN:VEVENT
DTSTART;TZID=America/New_York:20250319T160000
DTEND;TZID=America/New_York:20250319T170000
DTSTAMP:20260423T125300
CREATED:20250307T180409Z
LAST-MODIFIED:20250307T180409Z
UID:44338-1742400000-1742403600@constellationschools.com
SUMMARY:Kindergarten Signing Day - ДИТЯЧИЙ САДОК День підписання
DESCRIPTION:Celebrate our newest class of students at Kindergarten Signing Day! This special event is modeled after the signing day for student athletes & celebrates the students who officially commit to joining Constellation Schools: Parma Community Pearl Road Elementary for the upcoming school year.\nIt’s a special day! Join us for fun activities\, school swag & the opportunity to tour the school and meet staff. RSVP Today: constellationschools.com/parma-pearl-rd-elementary-events \nСвяткуйте разом з нами новий клас учнів на Дні підписання в дитячому садку!\nЦя особлива подія є аналогом дня підписання для студентів-спортсменів і святкує учнів\, які офіційно погоджуються приєднатися до шкіл Constellation: початкової школи Parma Community Pearl Road на наступний навчальний рік. \nЦе особливий день! Приєднуйтесь до нас для весели́х заходів\, шкільних сувенірів та можливості оглянути школу й познайомитися з персоналом.\nПідтвердьте свою участь сьогодні! constellationschools.com/parma-pearl-rd-elementary-events\n \n
URL:https://constellationschools.com/event/kindergarten-signing-day-%d0%b4%d0%b8%d1%82%d1%8f%d1%87%d0%b8%d0%b9-%d1%81%d0%b0%d0%b4%d0%be%d0%ba-%d0%b4%d0%b5%d0%bd%d1%8c-%d0%bf%d1%96%d0%b4%d0%bf%d0%b8%d1%81%d0%b0%d0%bd%d0%bd%d1%8f/
LOCATION:6125 Pearl Rd\, Parma Heights\, OH\, 44130
CATEGORIES:Calendar Only,Prospective Families, Events, Home
END:VEVENT
END:VCALENDAR