BEGIN:VCALENDAR
VERSION:2.0
PRODID:-//Constellation Schools - ECPv4.6.16//NONSGML v1.0//EN
CALSCALE:GREGORIAN
METHOD:PUBLISH
X-WR-CALNAME:Constellation Schools
X-ORIGINAL-URL:https://constellationschools.com
X-WR-CALDESC:Events for Constellation Schools
BEGIN:VEVENT
DTSTART;TZID=America/New_York:20230727T160000
DTEND;TZID=America/New_York:20230727T173000
DTSTAMP:20260424T191425
CREATED:20230630T175933Z
LAST-MODIFIED:20230630T180029Z
UID:32938-1690473600-1690479000@constellationschools.com
SUMMARY:Stockyard Community - Kool Down with Kona Ice!
DESCRIPTION:Join us for a tropical escape with FREE Kona Ice\, inflatable activities\, game truck & and an opportunity to learn about our school! Meet our staff\, tour our campus & receive registration support. \n RSVP Today! constellationschools.com/stockyard-events  \n
URL:https://constellationschools.com/event/kool-down-with-kona-ice/
LOCATION:3200 W 65th Street\, Cleveland\, OH\, 44102\, United States
CATEGORIES:Calendar Only,Prospective Families, Events, Home
END:VEVENT
END:VCALENDAR