BEGIN:VCALENDAR
VERSION:2.0
PRODID:-//Constellation Schools - ECPv4.6.16//NONSGML v1.0//EN
CALSCALE:GREGORIAN
METHOD:PUBLISH
X-WR-CALNAME:Constellation Schools
X-ORIGINAL-URL:https://constellationschools.com
X-WR-CALDESC:Events for Constellation Schools
BEGIN:VEVENT
DTSTART;VALUE=DATE:20250523
DTEND;VALUE=DATE:20250524
DTSTAMP:20260425T151958
CREATED:20240404T173603Z
LAST-MODIFIED:20240404T173603Z
UID:40033-1747958400-1748044799@constellationschools.com
SUMMARY:Last Day of School for Students
DESCRIPTION:
URL:https://constellationschools.com/event/last-day-of-school-for-students-2/
LOCATION:5730 Broadview Road\, Parma\, OH\, 44134
CATEGORIES:Calendar Only
END:VEVENT
END:VCALENDAR