BEGIN:VCALENDAR
VERSION:2.0
PRODID:-//Constellation Schools - ECPv4.6.16//NONSGML v1.0//EN
CALSCALE:GREGORIAN
METHOD:PUBLISH
X-WR-CALNAME:Constellation Schools
X-ORIGINAL-URL:https://constellationschools.com
X-WR-CALDESC:Events for Constellation Schools
BEGIN:VEVENT
DTSTART;TZID=America/New_York:20230628T100000
DTEND;TZID=America/New_York:20230628T110000
DTSTAMP:20260424T191430
CREATED:20230621T161806Z
LAST-MODIFIED:20230621T161806Z
UID:32821-1687946400-1687950000@constellationschools.com
SUMMARY:Lorain Community - Lemonade with Leadership
DESCRIPTION:Sip\, sip\, hooray for hanging out with our school leadership team and getting aquainted with our unique programs and upcoming school year! Kids will enjoy a “make & take” craft project. Enjoy refreshing lemonade\, snacks\, school tours\, the opportunity to meet our principal and staff. Get assistance with re-enrollment or review the enrollment process or register same day.  \nRSVP today! constellationschools.com/lorain-events  \n
URL:https://constellationschools.com/event/lorain-community-lemonade-with-leadership/2023-06-28/
CATEGORIES:Calendar Only,Prospective Families, Events, Home
END:VEVENT
END:VCALENDAR