BEGIN:VCALENDAR
VERSION:2.0
PRODID:-//Constellation Schools - ECPv4.6.16//NONSGML v1.0//EN
CALSCALE:GREGORIAN
METHOD:PUBLISH
X-WR-CALNAME:Constellation Schools
X-ORIGINAL-URL:https://constellationschools.com
X-WR-CALDESC:Events for Constellation Schools
BEGIN:VEVENT
DTSTART;TZID=America/New_York:20231102T090000
DTEND;TZID=America/New_York:20231102T100000
DTSTAMP:20260424T124607
CREATED:20231030T173859Z
LAST-MODIFIED:20231030T173859Z
UID:36208-1698915600-1698919200@constellationschools.com
SUMMARY:Lorain Community - Muffins with Mom
DESCRIPTION:Muffins with Mom\n \nMoms\, Grand moms\, Aunties\, Women Cousins\, Women Guardians\, and Women Mentors\, please come out to join us for a power hour morning event. \nWe will have a photo booth\, academic resources\, Social and Emotional (SEL) activities\, muffins/drinks\, and a motivational speaker here for our session. \nTo register\, please call the school Monday.-Friday. from 9am-2pm  at 440-242-2023. Provide the total number of girls and women in your group who will be attending\, so that we can order enough food. \n  \nDownload PDF»\n
URL:https://constellationschools.com/event/lorain-community-muffins-with-mom/
LOCATION:1110 W 4th St\, Lorain\, OH\, 44052\, United States
CATEGORIES:Calendar Only
END:VEVENT
END:VCALENDAR