BEGIN:VCALENDAR
VERSION:2.0
PRODID:-//Constellation Schools - ECPv4.6.16//NONSGML v1.0//EN
CALSCALE:GREGORIAN
METHOD:PUBLISH
X-WR-CALNAME:Constellation Schools
X-ORIGINAL-URL:https://constellationschools.com
X-WR-CALDESC:Events for Constellation Schools
BEGIN:VEVENT
DTSTART;TZID=America/New_York:20250806T120000
DTEND;TZID=America/New_York:20250806T130000
DTSTAMP:20260423T065603
CREATED:20250725T191009Z
LAST-MODIFIED:20250725T191009Z
UID:45221-1754481600-1754485200@constellationschools.com
SUMMARY:Lorain Community: Popsicles in the Park | Paletas en el parque
DESCRIPTION:Come chill with our team and other families at Lakeview Park! learn about our school community and the next steps to enroll. Enjoy free popsicles\, playtime\, school info\, and enrollment support.  \nRSVP Today! https://constellationschools.com/lorain-middle-events/ \n\n¡Ven a refrescarte con nuestro equipo y otras familias! Conoce nuestra comunidad escolar\, disfruta de una paleta gratis y obtén información sobre cómo inscribirte fácilmente. Disfrutar paletas gratis\, tiempo de juego en el parque\, información sobre la escuela\, y apoyo para la inscripción en el lugar.  \n¡Inscríbete hoy! https://constellationschools.com/lorain-middle-events/ \n
URL:https://constellationschools.com/event/lorain-community-popsicles-park-paletas-en-el-parque/
LOCATION:1800 W Erie Ave\, Lorain\, OH\, 44052\, United States
CATEGORIES:Calendar Only,Prospective Families, Events, Home
END:VEVENT
END:VCALENDAR