BEGIN:VCALENDAR
VERSION:2.0
PRODID:-//Constellation Schools - ECPv4.6.16//NONSGML v1.0//EN
CALSCALE:GREGORIAN
METHOD:PUBLISH
X-WR-CALNAME:Constellation Schools
X-ORIGINAL-URL:https://constellationschools.com
X-WR-CALDESC:Events for Constellation Schools
BEGIN:VEVENT
DTSTART;TZID=America/New_York:20231110T140000
DTEND;TZID=America/New_York:20231110T150000
DTSTAMP:20260424T124520
CREATED:20231030T174742Z
LAST-MODIFIED:20231030T175103Z
UID:36217-1699624800-1699628400@constellationschools.com
SUMMARY:Lorain Community - Veterans Day Activity
DESCRIPTION:Veterans Day Activity\n \n\nHonor\, Recognize\, and Celebrate\, our soldiers of the United States of America! Veterans Day honors all of those who have served the country in war or peace — dead or alive — although it’s largely intended to thank living veterans for their sacrifices. \nIf you have a member in your family\, neighbor\, relative\, or friend who is or was a soldier for our Armed Forces\, please invite them to attend the event. We will be honoring our Veterans\, have a guest speaker\, and complete a craft together with your loved one. Please call the school Monday-Friday from 9am-2pm at 440-242-2023. Provide the total number of people in your group who will be attending\, so that we can order enough food. \n\n\nDownload PDF»\n\n
URL:https://constellationschools.com/event/lorain-community-veterans-day-activity/
LOCATION:1110 W 4th St\, Lorain\, OH\, 44052\, United States
CATEGORIES:Calendar Only
END:VEVENT
END:VCALENDAR