BEGIN:VCALENDAR
VERSION:2.0
PRODID:-//Constellation Schools - ECPv4.6.16//NONSGML v1.0//EN
CALSCALE:GREGORIAN
METHOD:PUBLISH
X-WR-CALNAME:Constellation Schools
X-ORIGINAL-URL:https://constellationschools.com
X-WR-CALDESC:Events for Constellation Schools
BEGIN:VEVENT
DTSTART;TZID=America/New_York:20250321T130000
DTEND;TZID=America/New_York:20250321T150000
DTSTAMP:20260423T143449
CREATED:20250311T134211Z
LAST-MODIFIED:20250311T134211Z
UID:44352-1742562000-1742569200@constellationschools.com
SUMMARY:Lorain Elementary - Kindergarten Signing Day
DESCRIPTION:Celebrate our newest class of students at Kindergarten Signing Day! This special event is modeled after the signing day for student athletes & celebrates the students who officially commit to joining Constellation Schools: Lorain Community Elementary for the upcoming school year. \nIt’s a special day! Join us for fun activities\, school swag & the opportunity to tour the school and meet our principal and staff. \nRSVP Today: constellationschools.com/lorain-events \n
URL:https://constellationschools.com/event/lorain-elementary-kindergarten-signing-day/
LOCATION:1110 W 4th St\, Lorain\, OH\, 44052\, United States
CATEGORIES:Calendar Only,Prospective Families, Events, Home
END:VEVENT
END:VCALENDAR