BEGIN:VCALENDAR
VERSION:2.0
PRODID:-//Constellation Schools - ECPv4.6.16//NONSGML v1.0//EN
CALSCALE:GREGORIAN
METHOD:PUBLISH
X-WR-CALNAME:Constellation Schools
X-ORIGINAL-URL:https://constellationschools.com
X-WR-CALDESC:Events for Constellation Schools
BEGIN:VEVENT
DTSTART;TZID=America/New_York:20240327T093000
DTEND;TZID=America/New_York:20240327T103000
DTSTAMP:20260424T060413
CREATED:20240209T203644Z
LAST-MODIFIED:20240209T203644Z
UID:38833-1711531800-1711535400@constellationschools.com
SUMMARY:Madison Community - Kindergarten Registration Day
DESCRIPTION:It’s time to register for Kindergarten! Join us to learn more about our school culture\, academics\, extracurricular programs\, and school services. Tour our campus\, meet our staff\, and preview our easy registration process! \nRSVP Today: constellationschools.com/madison-events \n
URL:https://constellationschools.com/event/madison-community-kindergarten-registration-day-2/
CATEGORIES:Calendar Only,Prospective Families, Events, Home
END:VEVENT
END:VCALENDAR