BEGIN:VCALENDAR
VERSION:2.0
PRODID:-//Constellation Schools - ECPv4.6.16//NONSGML v1.0//EN
CALSCALE:GREGORIAN
METHOD:PUBLISH
X-WR-CALNAME:Constellation Schools
X-ORIGINAL-URL:https://constellationschools.com
X-WR-CALDESC:Events for Constellation Schools
BEGIN:VEVENT
DTSTART;VALUE=DATE:20240101
DTEND;VALUE=DATE:20240102
DTSTAMP:20260424T092249
CREATED:20230328T163545Z
LAST-MODIFIED:20230328T163545Z
UID:30284-1704067200-1704153599@constellationschools.com
SUMMARY:New Year’s Day – Year-Round Staff Holiday
DESCRIPTION:
URL:https://constellationschools.com/event/new-years-day-year-round-staff-holiday/
LOCATION:5730 Broadview Road\, Parma\, OH\, 44134
CATEGORIES:Calendar Only
END:VEVENT
END:VCALENDAR