BEGIN:VCALENDAR
VERSION:2.0
PRODID:-//Constellation Schools - ECPv4.6.16//NONSGML v1.0//EN
CALSCALE:GREGORIAN
METHOD:PUBLISH
X-WR-CALNAME:Constellation Schools
X-ORIGINAL-URL:https://constellationschools.com
X-WR-CALDESC:Events for Constellation Schools
BEGIN:VEVENT
DTSTART;TZID=America/New_York:20241104T120000
DTEND;TZID=America/New_York:20241104T200000
DTSTAMP:20260423T181412
CREATED:20240404T170044Z
LAST-MODIFIED:20240404T170044Z
UID:39928-1730721600-1730750400@constellationschools.com
SUMMARY:Parent Teacher Conferences –  Paraprofessional Do Not Report (No School for Students)
DESCRIPTION:
URL:https://constellationschools.com/event/parent-teacher-conferences-paraprofessional-do-not-report-no-school-for-students/
LOCATION:5730 Broadview Road\, Parma\, OH\, 44134
CATEGORIES:Calendar Only,PTO
END:VEVENT
END:VCALENDAR