BEGIN:VCALENDAR
VERSION:2.0
PRODID:-//Constellation Schools - ECPv4.6.16//NONSGML v1.0//EN
CALSCALE:GREGORIAN
METHOD:PUBLISH
X-WR-CALNAME:Constellation Schools
X-ORIGINAL-URL:https://constellationschools.com
X-WR-CALDESC:Events for Constellation Schools
BEGIN:VEVENT
DTSTART;VALUE=DATE:20251103
DTEND;VALUE=DATE:20251104
DTSTAMP:20260423T021846
CREATED:20250909T160217Z
LAST-MODIFIED:20250909T160217Z
UID:45726-1762128000-1762214399@constellationschools.com
SUMMARY:Parent Teacher Conferences – Paraprofessional Do Not Report (No School for Students)
DESCRIPTION:
URL:https://constellationschools.com/event/parent-teacher-conferences-paraprofessional-not-report-no-school-students/
CATEGORIES:Calendar Only,PTO
END:VEVENT
END:VCALENDAR