BEGIN:VCALENDAR
VERSION:2.0
PRODID:-//Constellation Schools - ECPv4.6.16//NONSGML v1.0//EN
CALSCALE:GREGORIAN
METHOD:PUBLISH
X-WR-CALNAME:Constellation Schools
X-ORIGINAL-URL:https://constellationschools.com
X-WR-CALDESC:Events for Constellation Schools
BEGIN:VEVENT
DTSTART;TZID=America/New_York:20230320T090000
DTEND;TZID=America/New_York:20230320T180000
DTSTAMP:20260425T023025
CREATED:20230307T192722Z
LAST-MODIFIED:20230307T192722Z
UID:27920-1679302800-1679335200@constellationschools.com
SUMMARY:Parma Community Day Drive - Kindergarten Registration Day
DESCRIPTION:It’s time to register for Kindergarten! Join us to learn more about our school culture\, academics\, extracurricular programs\, and school services. Tour our campus\, meet our staff\, and preview our easy registration process! \nTime slots are: 9a-11a and 4p-6p \nRSVP Today: constellationschools.com/parma-day-drive-elementary-events  \n
URL:https://constellationschools.com/event/parma-community-day-drive-kindergarten-registration-day/
LOCATION:7667 Day Dr\, Parma\, OH\, 44129
END:VEVENT
END:VCALENDAR