BEGIN:VCALENDAR
VERSION:2.0
PRODID:-//Constellation Schools - ECPv4.6.16//NONSGML v1.0//EN
CALSCALE:GREGORIAN
METHOD:PUBLISH
X-WR-CALNAME:Constellation Schools
X-ORIGINAL-URL:https://constellationschools.com
X-WR-CALDESC:Events for Constellation Schools
BEGIN:VEVENT
DTSTART;TZID=America/New_York:20230601T180000
DTEND;TZID=America/New_York:20230601T190000
DTSTAMP:20260424T234312
CREATED:20230327T182642Z
LAST-MODIFIED:20230327T182642Z
UID:30047-1685642400-1685646000@constellationschools.com
SUMMARY:Parma Community Middle School 8th Grade Promotion
DESCRIPTION:
URL:https://constellationschools.com/event/parma-community-middle-school-8th-grade-promotion/
END:VEVENT
END:VCALENDAR