BEGIN:VCALENDAR
VERSION:2.0
PRODID:-//Constellation Schools - ECPv4.6.16//NONSGML v1.0//EN
CALSCALE:GREGORIAN
METHOD:PUBLISH
X-WR-CALNAME:Constellation Schools
X-ORIGINAL-URL:https://constellationschools.com
X-WR-CALDESC:Events for Constellation Schools
BEGIN:VEVENT
DTSTART;TZID=America/New_York:20230822T140000
DTEND;TZID=America/New_York:20230822T170000
DTSTAMP:20260424T190757
CREATED:20230811T130637Z
LAST-MODIFIED:20230811T130637Z
UID:34561-1692712800-1692723600@constellationschools.com
SUMMARY:Parma Day Dr - Back to School Open House
DESCRIPTION:Welcome back to school! Join us for open house to meet the principal\, teachers and staff & to tour our school. It is not too late to enroll for the 2023-24 school year & we will have staff ready to assist new families in the enrollment process.  \nRSVP Today! https://constellationschools.com/parma-day-drive-elementary-events/  \n
URL:https://constellationschools.com/event/parma-day-dr-back-to-school-open-house/
LOCATION:7667 Day Dr\, Parma\, OH\, 44129
CATEGORIES:Calendar Only,Prospective Families, Events, Home
END:VEVENT
END:VCALENDAR