BEGIN:VCALENDAR
VERSION:2.0
PRODID:-//Constellation Schools - ECPv4.6.16//NONSGML v1.0//EN
CALSCALE:GREGORIAN
METHOD:PUBLISH
X-WR-CALNAME:Constellation Schools
X-ORIGINAL-URL:https://constellationschools.com
X-WR-CALDESC:Events for Constellation Schools
BEGIN:VEVENT
DTSTART;TZID=America/New_York:20240318T160000
DTEND;TZID=America/New_York:20240318T180000
DTSTAMP:20260424T062049
CREATED:20240206T174702Z
LAST-MODIFIED:20240206T220518Z
UID:38683-1710777600-1710784800@constellationschools.com
SUMMARY:Parma Day Dr - Kindergarten Registration Night
DESCRIPTION:It’s time to register for Kindergarten! Join us to learn more about our school culture\, academics\, extracurricular programs\, and school services. Tour our campus\, meet our staff\, and preview our easy registration process! \nRSVP Today: https://constellationschools.com/parma-day-drive-elementary-events/ \n
URL:https://constellationschools.com/event/parma-day-dr-kindergarten-registration-night/
LOCATION:7667 Day Dr\, Parma\, OH\, 44129
CATEGORIES:Calendar Only,Prospective Families, Events, Home
END:VEVENT
END:VCALENDAR