BEGIN:VCALENDAR
VERSION:2.0
PRODID:-//Constellation Schools - ECPv4.6.16//NONSGML v1.0//EN
CALSCALE:GREGORIAN
METHOD:PUBLISH
X-WR-CALNAME:Constellation Schools
X-ORIGINAL-URL:https://constellationschools.com
X-WR-CALDESC:Events for Constellation Schools
BEGIN:VEVENT
DTSTART;TZID=America/New_York:20250808T150000
DTEND;TZID=America/New_York:20250808T170000
DTSTAMP:20260423T052719
CREATED:20250725T125046Z
LAST-MODIFIED:20250725T203018Z
UID:45217-1754665200-1754672400@constellationschools.com
SUMMARY:Parma Day Drive - Family Game Night
DESCRIPTION:  \nJoin Parma Community Day Drive Elementary for our “Ultimate Challenge – Family Game Night”! \nExperience a fun-filled evening with board games\, trivia\, inflatables\, corn hole\, large games\, and refreshments. Don’t miss this chance to meet our staff\, go on a school tour and secure your child’s enrollment for the 2025-2026 school year. \nK-3rd –  ALL ARE WELCOME TO ATTEND THE EVENT!\n\n*NO TICKETS NEEDED!\nRSVP Today! constellationschools.com/parma-events \n
URL:https://constellationschools.com/event/parma-day-drive-family-game-night-3/
LOCATION:7667 Day Dr\, Parma\, OH\, 44129
CATEGORIES:Calendar Only,Prospective Families, Events, Home
END:VEVENT
END:VCALENDAR