BEGIN:VCALENDAR
VERSION:2.0
PRODID:-//Constellation Schools - ECPv4.6.16//NONSGML v1.0//EN
CALSCALE:GREGORIAN
METHOD:PUBLISH
X-WR-CALNAME:Constellation Schools
X-ORIGINAL-URL:https://constellationschools.com
X-WR-CALDESC:Events for Constellation Schools
BEGIN:VEVENT
DTSTART;TZID=America/New_York:20250226T160000
DTEND;TZID=America/New_York:20250226T170000
DTSTAMP:20260423T144353
CREATED:20250218T142340Z
LAST-MODIFIED:20250218T142340Z
UID:44074-1740585600-1740589200@constellationschools.com
SUMMARY:Parma Day Drive - Kindergarten Signing Day
DESCRIPTION:Celebrate our newest class of students at Kindergarten Signing Day!\nThis special event is modeled after the signing day for student athletes\n& celebrates the students who officially commit to joining Constellation Schools – Parma Community Day Drive for the upcoming school year. Join us for fun activities\, school swag & the opportunity to tour the school and meet some of the staff. \nRSVP Today https://constellationschools.com/parma-day-drive-elementary-events/ \n
URL:https://constellationschools.com/event/parma-day-drive-kindergarten-signing-day/
LOCATION:7667 Day Dr\, Parma\, OH\, 44129
CATEGORIES:Calendar Only,Prospective Families, Events, Home
END:VEVENT
END:VCALENDAR