BEGIN:VCALENDAR
VERSION:2.0
PRODID:-//Constellation Schools - ECPv4.6.16//NONSGML v1.0//EN
CALSCALE:GREGORIAN
METHOD:PUBLISH
X-WR-CALNAME:Constellation Schools
X-ORIGINAL-URL:https://constellationschools.com
X-WR-CALDESC:Events for Constellation Schools
BEGIN:VEVENT
DTSTART;TZID=America/New_York:20230307T093000
DTEND;TZID=America/New_York:20230307T150000
DTSTAMP:20260425T010846
CREATED:20230303T200437Z
LAST-MODIFIED:20230303T200437Z
UID:27722-1678181400-1678201200@constellationschools.com
SUMMARY:Parma Day Drive - Kindergarten Tour Time
DESCRIPTION:Join our weekly group tour to get acquainted with our early Kindergarten & early elementary school programs. Tour the campus\, meet our staff\, preview our easy registration process\, or register same day. \nOffering two convent time frames for our families\, 9:30am-10:30am and 1pm-3pm \nRSVP Here >> \nCan’t Tour During This Time? Sign Up for any open tour time HERE! \n
URL:https://constellationschools.com/event/parma-day-drive-kindergarten-tour-time/2023-03-07/
LOCATION:7667 Day Dr\, Parma\, OH\, 44129
CATEGORIES:Calendar Only,Prospective Families, Events, Home
END:VEVENT
END:VCALENDAR