BEGIN:VCALENDAR
VERSION:2.0
PRODID:-//Constellation Schools - ECPv4.6.16//NONSGML v1.0//EN
CALSCALE:GREGORIAN
METHOD:PUBLISH
X-WR-CALNAME:Constellation Schools
X-ORIGINAL-URL:https://constellationschools.com
X-WR-CALDESC:Events for Constellation Schools
BEGIN:VEVENT
DTSTART;TZID=America/New_York:20230822T120000
DTEND;TZID=America/New_York:20230822T160000
DTSTAMP:20260424T171611
CREATED:20230811T131447Z
LAST-MODIFIED:20230811T131447Z
UID:34573-1692705600-1692720000@constellationschools.com
SUMMARY:Parma Intermediate - Back to School Open House
DESCRIPTION:Welcome back to school! Join us for open house to meet the principal\, teachers and staff & to tour our school. It is not too late to enroll for the 2023-24 school year & we will have staff ready to assist new families in the enrollment process. \nRSVP Today! https://constellationschools.com/parma-intermediate-events/ \n
URL:https://constellationschools.com/event/parma-intermediate-back-to-school-open-house/
LOCATION:3421 Snow Rd\, Parma\, OH\, 44134\, United States
CATEGORIES:Calendar Only,Prospective Families, Events, Home
END:VEVENT
END:VCALENDAR