BEGIN:VCALENDAR
VERSION:2.0
PRODID:-//Constellation Schools - ECPv4.6.16//NONSGML v1.0//EN
CALSCALE:GREGORIAN
METHOD:PUBLISH
X-WR-CALNAME:Constellation Schools
X-ORIGINAL-URL:https://constellationschools.com
X-WR-CALDESC:Events for Constellation Schools
BEGIN:VEVENT
DTSTART;TZID=America/New_York:20230624T204500
DTEND;TZID=America/New_York:20230624T230000
DTSTAMP:20260424T204123
CREATED:20230420T182315Z
LAST-MODIFIED:20230502T202734Z
UID:31193-1687639500-1687647600@constellationschools.com
SUMMARY:Parma Community - Family Movie Night
DESCRIPTION:Bring your own lawn chair or blanket & get ready for a blockbuster time at our Pearl Road Elementary campus (6125 Pearl Rd\, Parma Heights). Join us for a free movie\, Kona ice\, snacks\, face painting & enrollment support for the upcoming school year.  \nRSVP Today! constellationschools.com/events \n  \n
URL:https://constellationschools.com/event/parma-pearl-rd-family-movie-night/
LOCATION:6125 Pearl Rd\, Parma Heights\, OH\, 44130
CATEGORIES:Calendar Only,Prospective Families, Events, Home
END:VEVENT
END:VCALENDAR