BEGIN:VCALENDAR
VERSION:2.0
PRODID:-//Constellation Schools - ECPv4.6.16//NONSGML v1.0//EN
CALSCALE:GREGORIAN
METHOD:PUBLISH
X-WR-CALNAME:Constellation Schools
X-ORIGINAL-URL:https://constellationschools.com
X-WR-CALDESC:Events for Constellation Schools
BEGIN:VEVENT
DTSTART;TZID=America/New_York:20230306T090000
DTEND;TZID=America/New_York:20230306T110000
DTSTAMP:20260425T011030
CREATED:20230227T194419Z
LAST-MODIFIED:20230303T183654Z
UID:27026-1678093200-1678100400@constellationschools.com
SUMMARY:Parma Pearl Rd - Kindergarten Registration Event
DESCRIPTION:It’s time to register for Early K and Kindergarten! Join us to learn more about our school culture\, academics\, extracurricular programs\, and school services. Tour our campus\, meet our staff\, and preview our easy registration process! \nRSVP Today: constellationschools.com/parma-pearl-rd-elementary-events/ \n
URL:https://constellationschools.com/event/parma-pearl-rd-kindergarten-registration-day/
LOCATION:6125 Pearl Rd\, Parma Heights\, OH\, 44130
CATEGORIES:Calendar Only,Prospective Families, Events, Home
END:VEVENT
END:VCALENDAR