BEGIN:VCALENDAR
VERSION:2.0
PRODID:-//Constellation Schools - ECPv4.6.16//NONSGML v1.0//EN
CALSCALE:GREGORIAN
METHOD:PUBLISH
X-WR-CALNAME:Constellation Schools
X-ORIGINAL-URL:https://constellationschools.com
X-WR-CALDESC:Events for Constellation Schools
BEGIN:VEVENT
DTSTART;VALUE=DATE:20260216
DTEND;VALUE=DATE:20260217
DTSTAMP:20260422T203107
CREATED:20250909T161205Z
LAST-MODIFIED:20250909T161205Z
UID:45740-1771200000-1771286399@constellationschools.com
SUMMARY:President’s Day (No School)
DESCRIPTION:
URL:https://constellationschools.com/event/presidents-day-no-school-3/
CATEGORIES:Calendar Only
END:VEVENT
END:VCALENDAR