BEGIN:VCALENDAR
VERSION:2.0
PRODID:-//Constellation Schools - ECPv4.6.16//NONSGML v1.0//EN
CALSCALE:GREGORIAN
METHOD:PUBLISH
X-WR-CALNAME:Constellation Schools
X-ORIGINAL-URL:https://constellationschools.com
X-WR-CALDESC:Events for Constellation Schools
BEGIN:VEVENT
DTSTART;TZID=America/New_York:20230725T133000
DTEND;TZID=America/New_York:20230725T153000
DTSTAMP:20260424T191250
CREATED:20230609T184717Z
LAST-MODIFIED:20230609T184717Z
UID:32500-1690291800-1690299000@constellationschools.com
SUMMARY:Puritas Community - Popsicles & the Playground Project
DESCRIPTION:Come chill with our team and other families at Puritas Community!\nLearn about our school community and the next steps to enroll. Enjoy free popsicles during playtime!  \nRSVP Today! constellationschools.com/puritas-events  \n
URL:https://constellationschools.com/event/puritas-community-popsicles-the-playground-project/
LOCATION:17720 Puritas Ave\, Cleveland\, OH\, 44135
CATEGORIES:Calendar Only,Prospective Families, Events, Home
END:VEVENT
END:VCALENDAR