BEGIN:VCALENDAR
VERSION:2.0
PRODID:-//Constellation Schools - ECPv4.6.16//NONSGML v1.0//EN
CALSCALE:GREGORIAN
METHOD:PUBLISH
X-WR-CALNAME:Constellation Schools
X-ORIGINAL-URL:https://constellationschools.com
X-WR-CALDESC:Events for Constellation Schools
BEGIN:VEVENT
DTSTART;TZID=America/New_York:20230308T090000
DTEND;TZID=America/New_York:20230308T140000
DTSTAMP:20260425T023025
CREATED:20230303T203949Z
LAST-MODIFIED:20230303T203949Z
UID:27752-1678266000-1678284000@constellationschools.com
SUMMARY:Puritas - Kindergarten Tour Time
DESCRIPTION:Join our weekly group tour to get acquainted with our early Kindergarten & early elementary school programs. Tour the campus\, meet our staff\, preview our easy registration process\, or register same day. \nOffering two convent time frames for our families\, 9:00am-10:00am and 1pm-2pm \nRSVP Here>> \nCan’t Tour During This Time? Sign Up for any open tour time HERE  \n
URL:https://constellationschools.com/event/puritas-kindergarten-tour-time/2023-03-08/
LOCATION:17720 Puritas Ave\, Cleveland\, OH\, 44135
CATEGORIES:Calendar Only,Prospective Families, Events, Home
END:VEVENT
END:VCALENDAR