BEGIN:VCALENDAR
VERSION:2.0
PRODID:-//Constellation Schools - ECPv4.6.16//NONSGML v1.0//EN
CALSCALE:GREGORIAN
METHOD:PUBLISH
X-WR-CALNAME:Constellation Schools
X-ORIGINAL-URL:https://constellationschools.com
X-WR-CALDESC:Events for Constellation Schools
BEGIN:VEVENT
DTSTART;VALUE=DATE:20230410
DTEND;VALUE=DATE:20230411
DTSTAMP:20260424T232952
CREATED:20230112T161540Z
LAST-MODIFIED:20230112T161540Z
UID:23420-1681084800-1681171199@constellationschools.com
SUMMARY:School Closed
DESCRIPTION:
URL:https://constellationschools.com/event/school-closed/
CATEGORIES:Calendar Only
END:VEVENT
END:VCALENDAR