BEGIN:VCALENDAR
VERSION:2.0
PRODID:-//Constellation Schools - ECPv4.6.16//NONSGML v1.0//EN
CALSCALE:GREGORIAN
METHOD:PUBLISH
X-WR-CALNAME:Constellation Schools
X-ORIGINAL-URL:https://constellationschools.com
X-WR-CALDESC:Events for Constellation Schools
BEGIN:VEVENT
DTSTART;VALUE=DATE:20230221
DTEND;VALUE=DATE:20230222
DTSTAMP:20260425T023030
CREATED:20230112T152338Z
LAST-MODIFIED:20230112T152338Z
UID:23345-1676937600-1677023999@constellationschools.com
SUMMARY:In-Service\, Collaboration\, Professional Development Day (No School for Students)
DESCRIPTION:
URL:https://constellationschools.com/event/service-collaboration-professional-development-day-no-school-students-2/
CATEGORIES:Calendar Only
END:VEVENT
END:VCALENDAR