BEGIN:VCALENDAR
VERSION:2.0
PRODID:-//Constellation Schools - ECPv4.6.16//NONSGML v1.0//EN
CALSCALE:GREGORIAN
METHOD:PUBLISH
X-WR-CALNAME:Constellation Schools
X-ORIGINAL-URL:https://constellationschools.com
X-WR-CALDESC:Events for Constellation Schools
BEGIN:VEVENT
DTSTART;VALUE=DATE:20230519
DTEND;VALUE=DATE:20230520
DTSTAMP:20260424T221701
CREATED:20230112T162542Z
LAST-MODIFIED:20230112T162542Z
UID:23456-1684454400-1684540799@constellationschools.com
SUMMARY:In-Service\, Collaboration\, Professional Development Day (No School for Students)
DESCRIPTION:
URL:https://constellationschools.com/event/service-collaboration-professional-development-day-no-school-students-5/
CATEGORIES:Calendar Only
END:VEVENT
END:VCALENDAR