BEGIN:VCALENDAR
VERSION:2.0
PRODID:-//Constellation Schools - ECPv4.6.16//NONSGML v1.0//EN
CALSCALE:GREGORIAN
METHOD:PUBLISH
X-WR-CALNAME:Constellation Schools
X-ORIGINAL-URL:https://constellationschools.com
X-WR-CALDESC:Events for Constellation Schools
BEGIN:VEVENT
DTSTART;TZID=America/New_York:20230330T180000
DTEND;TZID=America/New_York:20230330T180000
DTSTAMP:20260425T022906
CREATED:20230323T205800Z
LAST-MODIFIED:20230323T210121Z
UID:29708-1680199200-1680199200@constellationschools.com
SUMMARY:Special Board Meeting
DESCRIPTION:The following schools will have a Special Board Meeting on Thursday\, March 30\, 2023\, at 6:00 p.m. located at the Constellation Schools Administration Office\, 5730 Broadview Road\, Parma\, Ohio 44134: \n\nConstellation Schools:  Puritas Community Middle\nConstellation Schools:  Stockyard Community Middle\nConstellation Schools:  Westside Community School of the Arts\n\n
URL:https://constellationschools.com/event/special-board-meeting/
LOCATION:5730 Broadview Road\, Parma\, OH\, 44134
CATEGORIES:School Board
END:VEVENT
END:VCALENDAR