BEGIN:VCALENDAR
VERSION:2.0
PRODID:-//Constellation Schools - ECPv4.6.16//NONSGML v1.0//EN
CALSCALE:GREGORIAN
METHOD:PUBLISH
X-WR-CALNAME:Constellation Schools
X-ORIGINAL-URL:https://constellationschools.com
X-WR-CALDESC:Events for Constellation Schools
BEGIN:VEVENT
DTSTART;VALUE=DATE:20230403
DTEND;VALUE=DATE:20230408
DTSTAMP:20260424T233605
CREATED:20230112T161508Z
LAST-MODIFIED:20230112T161508Z
UID:23414-1680480000-1680911999@constellationschools.com
SUMMARY:Spring Break (No School)
DESCRIPTION:
URL:https://constellationschools.com/event/spring-break-no-school/
CATEGORIES:Calendar Only
END:VEVENT
END:VCALENDAR