BEGIN:VCALENDAR
VERSION:2.0
PRODID:-//Constellation Schools - ECPv4.6.16//NONSGML v1.0//EN
CALSCALE:GREGORIAN
METHOD:PUBLISH
X-WR-CALNAME:Constellation Schools
X-ORIGINAL-URL:https://constellationschools.com
X-WR-CALDESC:Events for Constellation Schools
BEGIN:VEVENT
DTSTART;TZID=America/New_York:20241220T133000
DTEND;TZID=America/New_York:20241220T150000
DTSTAMP:20260423T170621
CREATED:20241209T154917Z
LAST-MODIFIED:20241209T154917Z
UID:43655-1734701400-1734706800@constellationschools.com
SUMMARY:Stockyard Community - Winter Music Program
DESCRIPTION:Join us in celebrating the season with a delightful showcase of holiday songs! Enjoy performances by every grade and celebrate the holidays. Program starts promptly at 1:45 PM \n
URL:https://constellationschools.com/event/stockyard-community-winter-music-program/
LOCATION:3200 W 65th Street\, Cleveland\, OH\, 44102\, United States
CATEGORIES:Calendar Only,Prospective Families, Events, Home
END:VEVENT
END:VCALENDAR